BEGIN:VCALENDAR
VERSION:2.0
PRODID:-//Direction des Ressources Marines - ECPv4.6.25//NONSGML v1.0//EN
CALSCALE:GREGORIAN
METHOD:PUBLISH
X-WR-CALNAME:Direction des Ressources Marines
X-ORIGINAL-URL:http://www.ressources-marines.gov.pf
X-WR-CALDESC:Évènements pour Direction des Ressources Marines
BEGIN:VEVENT
DTSTART;VALUE=DATE:20171030
DTEND;VALUE=DATE:20171108
DTSTAMP:20191130T013322
CREATED:20171018T190359Z
LAST-MODIFIED:20171018T190359Z
UID:13504-1509321600-1510099199@www.ressources-marines.gov.pf
SUMMARY:Ventes aux enchères de perles de culture de Tahiti
DESCRIPTION:Le GIE Poe o Tahiti Nui et le GIE Poe o Rikitea organisent leurs prochaines ventes aux enchères de la perle de culture les dimanche 5 et lundi 7  novembre 2017. \n– le GIE POE O RIKITEA (bâtiment du SEFI\, 5ème étage)\n– le GIE POE O TAHITI NUI (dans les locaux de la Direction des ressources maritimes et minières (DRMM) dans les jardins de Paofai) \nMais avant de procéder à l’achat des perles polynésiennes\, les acheteurs potentiels ont du lundi 30 octobre au samedi 4 novembre 2017 pour visualiser les différents lots qui seront mis en vente. \n\n\n	\n
URL:http://www.ressources-marines.gov.pf/event/vae-perles-culture-tahiti/
LOCATION:Papeete Tahiti\, Polynésie Française
CATEGORIES:Evénements d'ici et d'ailleurs,VAE Perles de culture de Tahit
ATTACH;FMTTYPE=image/jpeg:http://www.ressources-marines.gov.pf/wp-content/uploads/sites/24/2017/07/FPT4740-e1538422756702.jpg
END:VEVENT
END:VCALENDAR