BEGIN:VCALENDAR
VERSION:2.0
PRODID:-//Direction des Ressources Marines - ECPv4.6.25//NONSGML v1.0//EN
CALSCALE:GREGORIAN
METHOD:PUBLISH
X-WR-CALNAME:Direction des Ressources Marines
X-ORIGINAL-URL:http://www.ressources-marines.gov.pf
X-WR-CALDESC:Évènements pour Direction des Ressources Marines
BEGIN:VEVENT
DTSTART;VALUE=DATE:20181208
DTEND;VALUE=DATE:20181217
DTSTAMP:20191129T165431
CREATED:20181204T001254Z
LAST-MODIFIED:20181204T001254Z
UID:17709-1544227200-1545004799@www.ressources-marines.gov.pf
SUMMARY:Salon nautique de Paris 2018
DESCRIPTION:Le Nautic en quelques mots\nLe Nautic – Salon Nautique International de Paris\, regroupe chaque année\, début décembre\, toutes les filières des industries nautiques et devient à cette occasion le plus grand port indoor de France. \nDu samedi 8 au dimanche 16 décembre 2018\, retrouvez exposés à la Porte de Versailles les bateaux à voile\, à moteur\, les sports de glisse\, les équipements\, les nouvelles technologies\, les services\, de la location\, du tourisme mais aussi de la pêche\, sans oublier\, plus généralement\, tout l’environnement des loisirs nautiques. \nLe Nautic en quelques chiffres\nVoici les chiffres marquants de la précédente édition de 2017 : \n\n206 184 visiteurs\n300 000 m²\n9 jours\n825 exposants\n1011 embarcations\nPlus de 2 000 articles de presse\n\n \n\n\n	\n
URL:http://www.ressources-marines.gov.pf/event/salon-nautique-de-paris-2018/
LOCATION:Porte de Versailles\, Paris\, Porte de Versailles\, Paris\, France
CATEGORIES:Salon
ATTACH;FMTTYPE=image/jpeg:http://www.ressources-marines.gov.pf/wp-content/uploads/sites/24/2018/12/salon-nautique-de-paris-2018.jpg
END:VEVENT
END:VCALENDAR