BEGIN:VCALENDAR
VERSION:2.0
PRODID:-//Direction des Ressources Marines - ECPv4.6.25//NONSGML v1.0//EN
CALSCALE:GREGORIAN
METHOD:PUBLISH
X-WR-CALNAME:Direction des Ressources Marines
X-ORIGINAL-URL:http://www.ressources-marines.gov.pf
X-WR-CALDESC:Évènements pour Direction des Ressources Marines
BEGIN:VEVENT
DTSTART;VALUE=DATE:20181127
DTEND;VALUE=DATE:20181129
DTSTAMP:20191129T164451
CREATED:20180719T195929Z
LAST-MODIFIED:20180719T195929Z
UID:15726-1543276800-1543449599@www.ressources-marines.gov.pf
SUMMARY:Les Assises économies de la mer
DESCRIPTION:\n\n\n\n\n\n\n\n\n\nDécouvrez les grands thèmes du programme \n  \nCroissance bleue\, défis humanitaires\,\ninnovation\, EMR\, géopolitique… \n\n\n\n\n\n\n\n\n\n\n\n\n\n\n\n\n\n\n\n\nVoici quelques unes des thématiques qui vous attendent les 27 et 28 novembre : \n\nRecherche océanographique et conservation maritime ;\nPêche\, aquaculture\, biotechnologie ;\nNumérisation du maritime ;\nLes EMR de demain et d’après-demain ;\nL’humanité maritime : ruptures technologiques\, vie à bord et défis humanitaires ;\nBrexit\, Chine conquérante\, Corée\, Iran… Le maritime face à la nouvelle donne géopolitique et économique ;\nOutre-mer et francophonie : des potentiels de développement qui ne demandent qu’à prospérer.\n\nSans oublier divers ateliers consacrés notamment à la formation\, à la défense et à la transition énergétique.  \n\n\n\n\n\n\n\n\n\n\n\n\n	\n
URL:http://www.ressources-marines.gov.pf/event/les-assises-economies-de-la-mer/
LOCATION:Le Quartz Brest\, Brest\, France
ATTACH;FMTTYPE=image/jpeg:http://www.ressources-marines.gov.pf/wp-content/uploads/sites/24/2018/07/les-assises-économies-de-la-mer.jpg
END:VEVENT
END:VCALENDAR