BEGIN:VCALENDAR
VERSION:2.0
PRODID:-//Direction des Ressources Marines - ECPv4.6.25//NONSGML v1.0//EN
CALSCALE:GREGORIAN
METHOD:PUBLISH
X-WR-CALNAME:Direction des Ressources Marines
X-ORIGINAL-URL:http://www.ressources-marines.gov.pf
X-WR-CALDESC:Évènements pour Direction des Ressources Marines
BEGIN:VEVENT
DTSTART;VALUE=DATE:20180614
DTEND;VALUE=DATE:20180616
DTSTAMP:20191129T163353
CREATED:20180328T181304Z
LAST-MODIFIED:20180328T181304Z
UID:14943-1528934400-1529107199@www.ressources-marines.gov.pf
SUMMARY:Assises de la pêche et des produits de la mer
DESCRIPTION:\n\n\n\n\n\n\n\n\n\n\nChaque année depuis 2010\, les Assises de la pêche et des produits de la mer réunissent l’ensemble des acteurs de la filière pêche\, de la production à la distribution en passant par la transformation. Pendant deux jours\, des centaines de décideurs issus des secteurs public et privé se retrouvent afin d’aborder les enjeux qui les concernent\, partager leurs expériences et apporter leur vision. \n\n\n\n\n\n\n\n\n	\n
URL:http://www.ressources-marines.gov.pf/event/assises-de-la-peche-et-des-produits-de-la-mer/
LOCATION:Sète\, Théâtre Molière - Avenue Victor Hugo\, Sète\, 34000\, France
CATEGORIES:Assises
ATTACH;FMTTYPE=image/jpeg:http://www.ressources-marines.gov.pf/wp-content/uploads/sites/24/2018/03/Assises-de-la-pêche-et-des-produits-de-la-mer.jpg
END:VEVENT
END:VCALENDAR