BEGIN:VCALENDAR
VERSION:2.0
PRODID:-//Direction des Ressources Marines - ECPv4.6.25//NONSGML v1.0//EN
CALSCALE:GREGORIAN
METHOD:PUBLISH
X-WR-CALNAME:Direction des Ressources Marines
X-ORIGINAL-URL:http://www.ressources-marines.gov.pf
X-WR-CALDESC:Évènements pour Direction des Ressources Marines
BEGIN:VEVENT
DTSTART;VALUE=DATE:20171019
DTEND;VALUE=DATE:20171021
DTSTAMP:20191130T014107
CREATED:20171016T210852Z
LAST-MODIFIED:20171018T205604Z
UID:13469-1508371200-1508543999@www.ressources-marines.gov.pf
SUMMARY:4ème Forum de l’Économie Bleue
DESCRIPTION:\nEspaces maritimes\, développement économique et préservation\n\n\n\nLe IVème Forum de l’Economie Maritime : « Espaces maritimes\, développement économique et préservation » se tiendra en matinée les 19 et 20 octobre au CESC\, Papeete. \nLe Vice-Président du Pays\, M. Teva Rohfritsch\, inaugurera cet événement qui rassemblera les acteurs maritimes du public et du privé autour de tables rondes thématiques portant sur les outils juridiques\, la gestion des zones lagonaires\, la gouvernance et l’autorité maritime\, ainsi que le projet d’aire marine gérée à l’échelle du Pays. \nLe IVème Forum de l’Economie Maritime est parrainé pour cette édition par la Direction des Ressources marines et minières de Polynésie française. \nLes sociétés Tahiti Fish Aquaculture et Aquapac apportent également leur soutien. \nProgramme 4ème Forum de l’économie bleue en PF \n\n\n\n\n\n	\n
URL:http://www.ressources-marines.gov.pf/event/4eme-forum-de-leconomie-bleue/
LOCATION:CESC Papeete\, Av Pouvanaa a Oopa\, immeuble Te Raumaire\, Papeete\, Tahiti Polynésie Française\, 98713
CATEGORIES:Evénements d'ici et d'ailleurs,Forum
ATTACH;FMTTYPE=image/png:http://www.ressources-marines.gov.pf/wp-content/uploads/sites/24/2017/10/bandeau-FEM2017.png
ORGANIZER;CN="Cluster%20Maritime%20de%20Polyn%C3%A9sie%20fran%C3%A7aise":MAILTO:info@cluster-maritime.pf
END:VEVENT
END:VCALENDAR