BEGIN:VCALENDAR
VERSION:2.0
PRODID:-//Direction des Ressources Marines - ECPv4.6.25//NONSGML v1.0//EN
CALSCALE:GREGORIAN
METHOD:PUBLISH
X-WR-CALNAME:Direction des Ressources Marines
X-ORIGINAL-URL:http://www.ressources-marines.gov.pf
X-WR-CALDESC:Évènements pour Direction des Ressources Marines
BEGIN:VEVENT
DTSTART;VALUE=DATE:20181022
DTEND;VALUE=DATE:20181027
DTSTAMP:20191129T164509
CREATED:20180719T200925Z
LAST-MODIFIED:20180920T233733Z
UID:15730-1540166400-1540598399@www.ressources-marines.gov.pf
SUMMARY:3rd World Small-Scale Fisheries Congress
DESCRIPTION:\nTransdisciplinarity and Transformation\nfor the Future of Small-Scale Fisheries\nThe 3rd WSFC is a transdisciplinary forum for anyone interested in small-scale fisheries to participate in an interactive discussion about the future of the world’s small-scale fisheries. \nThe overall goal of the Congress is to facilitate opportunities for researchers\, students\, young professionals\, practitioners\, fishers and fishers’ organizations\, environmental groups\, and policymakers to share information about all aspects of small-scale fisheries and to formulate action plans and capacity development programs to support the implementation of the SSF Guidelines.​ \n\n\nFor questions and comments email 3wsfcongress@gmail.com \n\n\n\n	\n
URL:http://www.ressources-marines.gov.pf/event/3rd-world-small-scale-fisheries-congress/
LOCATION:Chiang Mai\, Thaïlande
ATTACH;FMTTYPE=image/jpeg:http://www.ressources-marines.gov.pf/wp-content/uploads/sites/24/2018/07/WSSFC.jpg
END:VEVENT
END:VCALENDAR